BEGIN:VCALENDAR
VERSION:2.0
PRODID:-//Talks.cam//talks.cam.ac.uk//
X-WR-CALNAME:Talks.cam
BEGIN:VEVENT
SUMMARY:Grasping human limb morphology: what morphological integration\, a
 symmetry\, and cross-sectional properties are revealing about limb bone va
 riation and evolution - Dr Ben Auerbach\, University of Tennessee
DTSTART:20121008T153000Z
DTEND:20121008T163000Z
UID:TALK40625@talks.cam.ac.uk
CONTACT:Jacob Dunn
DESCRIPTION:Abstract not available
LOCATION:Department of Biological Anthropology Lecture Theatre (Room 41) P
 embroke Street
END:VEVENT
END:VCALENDAR
