BEGIN:VCALENDAR
VERSION:2.0
PRODID:-//Talks.cam//talks.cam.ac.uk//
X-WR-CALNAME:Talks.cam
BEGIN:VEVENT
SUMMARY:Title to be confirmed - Professor D. Picard\, Université Paris VI
 I
DTSTART:20120508T140000Z
DTEND:20120508T150000Z
UID:TALK37709@talks.cam.ac.uk
CONTACT:CCA
DESCRIPTION:Abstract not available
LOCATION:MR12
END:VEVENT
END:VCALENDAR
