BEGIN:VCALENDAR
VERSION:2.0
PRODID:-//Talks.cam//talks.cam.ac.uk//
X-WR-CALNAME:Talks.cam
BEGIN:VEVENT
SUMMARY:An intermediate state in glutamate receptor activation: structure 
 and mechanism - Dr Andrew Plested Leibniz\, Institut für Molekulare Pharm
 akologie (FMP) & Neurocure Initiative Charité Universitätsmedizin\, Germ
 any
DTSTART:20120323T153000Z
DTEND:20120323T163000Z
UID:TALK37051@talks.cam.ac.uk
CONTACT:Dr Dervila Glynn
DESCRIPTION:Abstract not available
LOCATION:MRC LMB Cell Biology seminar room
END:VEVENT
END:VCALENDAR
