BEGIN:VCALENDAR
VERSION:2.0
PRODID:-//Talks.cam//talks.cam.ac.uk//
X-WR-CALNAME:Talks.cam
BEGIN:VEVENT
SUMMARY:Rethinking the Crisis: The case for a Pluralist approach to Econom
 ics - Professor Emeritus Sheila Dow
DTSTART:20120306T173000Z
DTEND:20120306T190000Z
UID:TALK36752@talks.cam.ac.uk
CONTACT:Rafe Martyn
DESCRIPTION:The financial crisis has exposed shortcomings in standard econ
 omic theory and provided an impetus for new economic thinking. But the the
 oretical debate in the wake of the crisis has been unduly constrained by t
 he terms of the Mainstream approach to economic theory. Professor Sheila D
 ow will highlight some of the Mainstream’s failings and present the comp
 elling case for an inclusive\, Pluralist approach to the study and teachin
 g of economics.\nAbout the speaker\n\nSheila Dow is Emeritus Professor of 
 Economics at the University of Stirling and co-Convener of Scottish Centre
  for Economic Methodology. She has worked previously as an economist with 
 the Bank of England and the Government of Manitoba and as an advisor on mo
 netary policy to the UK Treasury Select Committee. She has published in th
 e areas of methodology\, the history of economic thought (especially Hume\
 , Smith and Keynes)\, money and banking and regional finance. Recent books
  include Economic Methodology: An Inquiry\, OUP\, 2002\, and A History of 
 Scottish Economic Thought\, Routledge\, 2006\, co-edited\, with Alexander 
 Dow. Her new book\, Foundations for New Economic Thinking: a collection of
  essays\, will be published by Palgrave Macmillan in spring 2012. 
LOCATION:Auditorium\, Robinson College\, Grange Road
END:VEVENT
END:VCALENDAR
