BEGIN:VCALENDAR
VERSION:2.0
PRODID:-//Talks.cam//talks.cam.ac.uk//
X-WR-CALNAME:Talks.cam
BEGIN:VEVENT
SUMMARY:Ordinals - Dr Forster (DPMMS)
DTSTART:20120304T131500Z
DTEND:20120304T140000Z
UID:TALK36731@talks.cam.ac.uk
CONTACT:Mary Fortune
DESCRIPTION:Ordinals were the last acquisition by the Mathematical Zoo for
  the Number House\, a donation by Cantor in the late 19th century. Unlike 
 naturals\, integers\, rationals\, reals and complexes they can be infinite
  as well as finite\, and therein lies much of their interest.  In this tal
 k I shall explain where they come from\, what they can do for you\, and wh
 y (despite their being infinite) you (a mere finite being) need to worry a
 bout them.
LOCATION:Winstanley Lecture Theatre\, Trinity College
END:VEVENT
END:VCALENDAR
