BEGIN:VCALENDAR
VERSION:2.0
PRODID:-//Talks.cam//talks.cam.ac.uk//
X-WR-CALNAME:Talks.cam
BEGIN:VEVENT
SUMMARY:The Neopatrimonial State in Africa: Lessons from  a Comparative Ov
 erview - Daniel Bach\, University of Bordeaux
DTSTART:20120220T170000Z
DTEND:20120220T180000Z
UID:TALK36428@talks.cam.ac.uk
CONTACT:Judith Weik
DESCRIPTION:Abstract not available
LOCATION:Seminar Room S1 Alison Richard Building\, 7 West Road\, Cambridge
  CB3 9DT
END:VEVENT
END:VCALENDAR
