BEGIN:VCALENDAR
VERSION:2.0
PRODID:-//Talks.cam//talks.cam.ac.uk//
X-WR-CALNAME:Talks.cam
BEGIN:VEVENT
SUMMARY:CMS electricity usage: 9214.0 kWh on 30/01/12 - Previous day: 7226
 .0 kWh
DTSTART:20120201T010000Z
DTEND:20120201T020000Z
UID:TALK36206@talks.cam.ac.uk
CONTACT:Dankrad Feist
DESCRIPTION:
LOCATION:Average on weekdays: 8961.36939314 kWh
END:VEVENT
END:VCALENDAR
