BEGIN:VCALENDAR
VERSION:2.0
PRODID:-//Talks.cam//talks.cam.ac.uk//
X-WR-CALNAME:Talks.cam
BEGIN:VEVENT
SUMMARY:Screening of "Everything Is Illuminated" (dir. Liev Schreiber\, 20
 05) - Speaker to be confirmed
DTSTART:20111024T183000Z
DTEND:20111024T210000Z
UID:TALK33501@talks.cam.ac.uk
CONTACT:Simon Lewis
DESCRIPTION:Abstract not available
LOCATION:Keynes Hall\, King's College\, Cambridge
END:VEVENT
END:VCALENDAR
