BEGIN:VCALENDAR
VERSION:2.0
PRODID:-//Talks.cam//talks.cam.ac.uk//
X-WR-CALNAME:Talks.cam
BEGIN:VEVENT
SUMMARY:Writing shell scripts - Tim Love (University of Cambridge)
DTSTART:20111125T150000Z
DTEND:20111125T160000Z
UID:TALK32936@talks.cam.ac.uk
CONTACT:Tim Love
DESCRIPTION:Showing how a few command lines can save many minutes of typin
 g. 
LOCATION:LR5\, Engineering\, Department of
END:VEVENT
END:VCALENDAR
