BEGIN:VCALENDAR
VERSION:2.0
PRODID:-//Talks.cam//talks.cam.ac.uk//
X-WR-CALNAME:Talks.cam
BEGIN:VEVENT
SUMMARY:'UCP1 and the other "uncoupling proteins": regulation and signific
 ance' - Professor Barbara Cannon\, Stockholm University\, Sweden
DTSTART:20111012T140000Z
DTEND:20111012T150000Z
UID:TALK32638@talks.cam.ac.uk
CONTACT:Penny Peck
DESCRIPTION:Abstract not available
LOCATION:Sackler Lecture Theatre (Level 7) Wellcome Trust/MRC Building\, A
 ddenbrooke's Site
END:VEVENT
END:VCALENDAR
