BEGIN:VCALENDAR
VERSION:2.0
PRODID:-//Talks.cam//talks.cam.ac.uk//
X-WR-CALNAME:Talks.cam
BEGIN:VEVENT
SUMMARY:Reaction Design and Catalysis with Aromatic Ions - Professor Trist
 an Lambert\, Columbia University\, USA
DTSTART:20110922T160000Z
DTEND:20110922T170000Z
UID:TALK32469@talks.cam.ac.uk
CONTACT:S. Allen
DESCRIPTION:Abstract not available
LOCATION:Pfizer  Lecture Theatre\,  Department of Chemistry
END:VEVENT
END:VCALENDAR
