BEGIN:VCALENDAR
VERSION:2.0
PRODID:-//Talks.cam//talks.cam.ac.uk//
X-WR-CALNAME:Talks.cam
BEGIN:VEVENT
SUMMARY:Aspects of Quantum Field Theory: Conformal Partial Waves - Francis
  Dolan
DTSTART:20110325T122500Z
DTEND:20110325T125500Z
UID:TALK30460@talks.cam.ac.uk
CONTACT:23032
DESCRIPTION:http://www.damtp.cam.ac.uk/research/hep/conferences/qft/
LOCATION:MR2\, Centre for Mathematical Sciences\, Wilberforce Road\, Cambr
 idge
END:VEVENT
END:VCALENDAR
