BEGIN:VCALENDAR
VERSION:2.0
PRODID:-//Talks.cam//talks.cam.ac.uk//
X-WR-CALNAME:Talks.cam
BEGIN:VEVENT
SUMMARY:French cine-club : Tell no one - Manon Brouillet
DTSTART:20110203T200000Z
DTEND:20110203T221000Z
UID:TALK29702@talks.cam.ac.uk
CONTACT:Manon Brouillet
DESCRIPTION:A 2006 thriller film directed by Guillaume Canet and based on 
 the novel of the same name by Harlan Coben.\n\nAlexandre Beck is a doctor 
 who has slowly been putting his life back together after his wife Margot w
 as murdered by a serial killer. Eight years on\, Alex receives an e-mail t
 hat appears to be from Margot\, which includes a link to a surveillance vi
 deo clip that features his late wife looking alive and well. The message w
 arns Alex that they are both being watched. \n\nhttp://www.wat.tv/video/ne
 -dis-personne-trailer-americain-osor_2fkwf_.html
LOCATION:CALL Media Centre\, MML\, RFB\, Sidgewick site\, Cambridge
END:VEVENT
END:VCALENDAR
