BEGIN:VCALENDAR
VERSION:2.0
PRODID:-//Talks.cam//talks.cam.ac.uk//
X-WR-CALNAME:Talks.cam
BEGIN:VEVENT
SUMMARY:The complex life of small RNAs - Eric Miska\, Gurdon Institute Uni
 versity of Cambridge
DTSTART:20110204T131500Z
DTEND:20110204T135500Z
UID:TALK29462@talks.cam.ac.uk
CONTACT:14541
DESCRIPTION:Abstract not available
LOCATION:Biffen Lecture Theatre\, Genetics\, Department of
END:VEVENT
END:VCALENDAR
