BEGIN:VCALENDAR
VERSION:2.0
PRODID:-//Talks.cam//talks.cam.ac.uk//
X-WR-CALNAME:Talks.cam
BEGIN:VEVENT
SUMMARY:'1914 in World Historical Perspective: The "Uneven" and "Combined"
  Origins of the First World War' - Alex Anievas\, POLIS\, University of Ca
 mbridge
DTSTART:20101116T170000Z
DTEND:20101116T180000Z
UID:TALK27887@talks.cam.ac.uk
CONTACT:Elif Cetin
DESCRIPTION:Abstract not available
LOCATION:Seminar Room B\, 17 Mill Lane
END:VEVENT
END:VCALENDAR
