BEGIN:VCALENDAR
VERSION:2.0
PRODID:-//Talks.cam//talks.cam.ac.uk//
X-WR-CALNAME:Talks.cam
BEGIN:VEVENT
SUMMARY:CMS electricity usage: 9445.5 kWh on 27/10/10 - Previous day: 9531
 .0 kWh
DTSTART:20101029T000000Z
DTEND:20101029T010000Z
UID:TALK27773@talks.cam.ac.uk
CONTACT:Dankrad Feist
DESCRIPTION:
LOCATION:Average on weekdays: 8875.69626168 kWh
END:VEVENT
END:VCALENDAR
