BEGIN:VCALENDAR
VERSION:2.0
PRODID:-//Talks.cam//talks.cam.ac.uk//
X-WR-CALNAME:Talks.cam
BEGIN:VEVENT
SUMMARY:Short Course: Categories in Generative Grammar (Session 1) - Dr Ph
 oevos Panagiotidis (University of Cyprus)
DTSTART:20101027T170000Z
DTEND:20101027T183000Z
UID:TALK27555@talks.cam.ac.uk
CONTACT:Dr Theresa Biberauer
DESCRIPTION:Abstract not available
LOCATION:G-R04\, English Faculty
END:VEVENT
END:VCALENDAR
