BEGIN:VCALENDAR
VERSION:2.0
PRODID:-//Talks.cam//talks.cam.ac.uk//
X-WR-CALNAME:Talks.cam
BEGIN:VEVENT
SUMMARY:Visitor Research at Chester Zoo: Behaviour\, Learning and the Tran
 sition from Anecdote to Evidence - Andy Moss\, Chester Zoo
DTSTART:20101108T163000Z
DTEND:20101108T180000Z
UID:TALK26898@talks.cam.ac.uk
CONTACT:Anthony Podberscek
DESCRIPTION:Abstract not available
LOCATION:Centre for Animal Welfare & Anthrozoology Seminar Room\, Veterina
 ry Medicine\, Department of
END:VEVENT
END:VCALENDAR
