BEGIN:VCALENDAR
VERSION:2.0
PRODID:-//Talks.cam//talks.cam.ac.uk//
X-WR-CALNAME:Talks.cam
BEGIN:VEVENT
SUMMARY:The generalised eigenfunction method and time-dependent linear wat
 er-wave impact on a vertical elastic plate - Peter\, M (University of Augs
 burg\, DE)
DTSTART:20100915T110000Z
DTEND:20100915T113000Z
UID:TALK26236@talks.cam.ac.uk
CONTACT:Mustapha Amrani
DESCRIPTION:
LOCATION:Seminar Room 1\, Newton Institute
END:VEVENT
END:VCALENDAR
