BEGIN:VCALENDAR
VERSION:2.0
PRODID:-//Talks.cam//talks.cam.ac.uk//
X-WR-CALNAME:Talks.cam
BEGIN:VEVENT
SUMMARY:Non polynomial approximations of wave problems - Perugia\, I (Univ
 ersity of Pavia\, IT)
DTSTART:20100913T080000Z
DTEND:20100913T090000Z
UID:TALK26235@talks.cam.ac.uk
CONTACT:Mustapha Amrani
DESCRIPTION:
LOCATION:Seminar Room 1\, Newton Institute
END:VEVENT
END:VCALENDAR
