BEGIN:VCALENDAR
VERSION:2.0
PRODID:-//Talks.cam//talks.cam.ac.uk//
X-WR-CALNAME:Talks.cam
BEGIN:VEVENT
SUMMARY:Title to be confirmed - Dr Susan Fisher - Biomedical Sciences Prog
 ram\, University of California
DTSTART:20110608T160000Z
DTEND:20110608T170000Z
UID:TALK25940@talks.cam.ac.uk
CONTACT:Sylvie Robinson
DESCRIPTION:Abstract not available
LOCATION:CRUK Cambridge Research Institute - LiKa Shing Centre - Robinson 
 Way - Cambridge - CB2 0RE
END:VEVENT
END:VCALENDAR
