BEGIN:VCALENDAR
VERSION:2.0
PRODID:-//Talks.cam//talks.cam.ac.uk//
X-WR-CALNAME:Talks.cam
BEGIN:VEVENT
SUMMARY:Formal poster session - Down\, T (University of Cambridge)
DTSTART:20100714T184500Z
DTEND:20100714T203000Z
UID:TALK25499@talks.cam.ac.uk
CONTACT:Mustapha Amrani
DESCRIPTION:
LOCATION:Discussion Room\, Newton Institute
END:VEVENT
END:VCALENDAR
