BEGIN:VCALENDAR
VERSION:2.0
PRODID:-//Talks.cam//talks.cam.ac.uk//
X-WR-CALNAME:Talks.cam
BEGIN:VEVENT
SUMMARY:"A Passion for the Universal": Science\, Jews and Others - Dr Noah
  Efron [Bar Ilan University\, Israel]
DTSTART:20100601T120000Z
DTEND:20100601T130000Z
UID:TALK24695@talks.cam.ac.uk
CONTACT:Dr Zoe Binns
DESCRIPTION:Abstract not available
LOCATION:Garden Room\, St Edmund's College
END:VEVENT
END:VCALENDAR
