BEGIN:VCALENDAR
VERSION:2.0
PRODID:-//Talks.cam//talks.cam.ac.uk//
X-WR-CALNAME:Talks.cam
BEGIN:VEVENT
SUMMARY:ECR Workshop: Can your research shape real-world policy? - Various
  speakers
DTSTART:20260610T083000Z
DTEND:20260610T113000Z
UID:TALK246817@talks.cam.ac.uk
CONTACT:Tamsin Smyth
DESCRIPTION:<p>Brought to you by Cambridge Reproduction IRC</p><p><strong 
 style="background-color: rgb(255\, 255\, 255)\; color: rgb(16\, 100\, 112)
 \;">Join this interactive workshop for early career researchers to explore
  the UK policy landscape in reproductive science and gain practical tools 
 to turn your work into impact. </strong></p><p><span style="background-col
 or: rgb(255\, 255\, 255)\; color: rgb(23\, 23\, 23)\;">Includes expert ins
 ights\, hands-on activities\, and networking over lunch.</span></p><p><str
 ong style="background-color: rgb(255\, 255\, 255)\; color: inherit\;">Prog
 ramme:</strong></p><p><span style="background-color: rgb(255\, 255\, 255)\
 ; color: rgb(23\, 23\, 23)\;">09:00-09:20 Arrival and Welcome tea and coff
 ee</span></p><p><span style="background-color: rgb(255\, 255\, 255)\; colo
 r: rgb(23\, 23\, 23)\;">09:20-09:30 Introduction to Workshop </span></p><p
 ><span style="background-color: rgb(255\, 255\, 255)\; color: rgb(23\, 23\
 , 23)\;">09:30-10:25 Current Policy Landscape for Reproductive Science in 
 the UK </span></p><p><span style="background-color: rgb(255\, 255\, 255)\;
  color: rgb(23\, 23\, 23)\;">10:25-11:10 Strategies for Policy Engagement 
 </span></p><p><span style="background-color: rgb(255\, 255\, 255)\; color:
  rgb(23\, 23\, 23)\;">11.10-11.25 Coffee break </span></p><p><span style="
 background-color: rgb(255\, 255\, 255)\; color: rgb(23\, 23\, 23)\;">11:25
 -12:20 Evaluating Policy Scenarios (Group Activity) </span></p><p><span st
 yle="background-color: rgb(255\, 255\, 255)\; color: rgb(23\, 23\, 23)\;">
 12:20-12:30 Wrap-Up and Next Steps </span></p><p><span style="background-c
 olor: rgb(255\, 255\, 255)\; color: rgb(23\, 23\, 23)\;">12:30-13:30 Netwo
 rking Lunch</span></p><p><span style="background-color: rgb(255\, 255\, 25
 5)\; color: rgb(23\, 23\, 23)\;">Organised by the theme leads for our Poli
 cy\, Ethics and Society challenge.</span></p><p><strong>For more informati
 on and to register visit </strong></p><p><strong><a href="https://www.repr
 o.cam.ac.uk/events/ecr-workshop-can-your-research-shape-real-world-policy"
  rel="noopener noreferrer" target="_blank">https://www.repro.cam.ac.uk/eve
 nts/ecr-workshop-can-your-research-shape-real-world-policy</a></strong></p
 ><p><strong style="background-color: rgb(255\, 255\, 255)\; color: rgb(23\
 , 23\, 23)\;">Date: </strong></p><p><span style="background-color: rgb(255
 \, 255\, 255)\; color: rgb(23\, 23\, 23)\;">Wednesday\, 10 June\, 2026 - 0
 9:30 to 12:30</span></p><p><strong style="background-color: rgb(255\, 255\
 , 255)\; color: rgb(23\, 23\, 23)\;">Event location: </strong></p><p><span
  style="background-color: rgb(255\, 255\, 255)\; color: rgb(23\, 23\, 23)\
 ;">West Hub\, JJ Thomson Ave\, Cambridge CB3 0US</span></p><p><br></p>
LOCATION:West Hub\, JJ Thomson Ave\, Cambridge CB3 0US
END:VEVENT
END:VCALENDAR
