BEGIN:VCALENDAR
VERSION:2.0
PRODID:-//Talks.cam//talks.cam.ac.uk//
X-WR-CALNAME:Talks.cam
BEGIN:VEVENT
SUMMARY:Cambridge Symposium on Protest and Peaceful Assembly - 
DTSTART:20260513T090000Z
DTEND:20260513T160000Z
UID:TALK246815@talks.cam.ac.uk
CONTACT:Rebecca Drewnicki
DESCRIPTION:<p>An international convening of leading scholars and rights a
 ctivists examining the vital yet threatened place of assembly in society a
 nd politics.</p><p><br></p><p>Across three panel sessions\, we examine the
  social and political importance of assembly\; its status as a legally-pro
 tected right at the national and international levels\; and the boundaries
  of its legitimate regulation in practice.</p><p><br></p><p>Speakers inclu
 de:</p><p>Gina Romero\, United Nations Special Rapporteur on the Rights to
  Freedom of Peaceful Assembly and of Association</p><p>Professor Greg Maga
 rian\, Professor of Law\, Washington University School of Law</p><p>Profes
 sor David Mead\, Senior lecturer in the Law School\, University of East An
 glia</p><p>Dr Kirsty Hughes\, Associate Professor in Public Law\, Universi
 ty of Cambridge</p><p>Dr Orsolya Salat\, Associate Professor\, ELTE Univer
 sity Budapest</p><p>Professor Pete Fussey\, Professor of Criminology\, Uni
 versity of Southampton</p><p>Dr Illan Wall\, University of Galway</p><p><b
 r></p><p>Convenors:</p><p>Professor Tabatha Abu El-Haj\, Drexel University
  Kline School of Law</p><p>Dr Michael Hamilton\, International Secretariat
  of Amnesty International</p><p>Dr Thomas Probert\, Centre for Human Right
 s (Pretoria)</p><p>Professor Sharath Srinivasan\, University of Cambridge<
 /p><p>Francesca Fanucci\, European Center for Not-for-Profit Law Stichting
  (ECNL)</p><p><br></p><p>Host organisations:</p><p>Amnesty International</
 p><p>European Center for Not-for-Profit Law</p><p>Centre of Governance and
  Human Rights</p><p><br></p><p>Lunch will be provided. Registration essent
 ial.</p><p><br></p><p><a href="https://symposium-protest-peaceful-assembly
 .eventbrite.co.uk/" rel="noopener noreferrer" target="_blank">Register her
 e</a></p>
LOCATION:Room SG1\, Alison Richard Building
END:VEVENT
END:VCALENDAR
