BEGIN:VCALENDAR
VERSION:2.0
PRODID:-//Talks.cam//talks.cam.ac.uk//
X-WR-CALNAME:Talks.cam
BEGIN:VEVENT
SUMMARY:Advances in combined EEG-fMRI at 7T – are we there yet? - João 
 Jorge\, CSEM - Swiss Center for Electronics and Microtechnology
DTSTART:20260427T113000Z
DTEND:20260427T123000Z
UID:TALK246794@talks.cam.ac.uk
CONTACT:Dace Apsvalka
DESCRIPTION:<p><strong>Speaker: </strong>João Jorge\, CSEM - Swiss Center
  for Electronics and Microtechnology.</p><p><strong>Title: </strong>Advanc
 es in combined EEG-fMRI at 7T – are we there yet?</p><p><strong>Abstract
 :</strong> The combination of electroencephalography (EEG) and functional 
 magnetic resonance imaging (fMRI) at ultra-high field (7 Tesla) offers app
 ealing new possibilities to probe human brain function non-invasively with
  high coverage\, millisecond temporal precision and sub-millimetre spatial
  precision\, unravelling cortical layers and small subcortical structures.
  Unfortunately\, this technique has previously remained largely inaccessib
 le at 7T\, due to prohibitive cross-modal interference effects and physica
 l constraints. In this talk\, I will cover recent work by our group and in
 dustry partners exploring a new EEG-fMRI acquisition framework combining k
 ey hardware and algorithmic improvements\, which enable safe\, high-qualit
 y recordings at 7T\, including sub-millimetre fMRI resolution. I will desc
 ribe our findings regarding the safety and functional sensitivity of this 
 new setup\, and share some early insights into its use for the study of ne
 ural network activity.</p><p><strong>Bio:</strong> Dr. João Jorge is an R
 &amp\;D expert at the Medtech BU of CSEM – the Swiss Center for Electron
 ics and Microtechnology\, where he drives research on new tools for biomed
 ical sensing\, inside and outside the lab\, particularly in the domain of 
 brain health.</p><p><strong>Venue:</strong> MRC CBU West Wing Seminar Room
  and Zoom <a href="https://us02web.zoom.us/j/82385113580?pwd=RmxIUmphQW9Ud
 1JBby9nTDQzR0NRdz09" rel="noopener noreferrer" target="_blank">https://us0
 2web.zoom.us/j/82385113580?pwd=RmxIUmphQW9Ud1JBby9nTDQzR0NRdz09</a> (Meeti
 ng ID: 823 8511 3580\; Passcode: 299077)</p>
LOCATION:MRC-CBU\, 15 Chaucer Road\, Cambridge
END:VEVENT
END:VCALENDAR
