BEGIN:VCALENDAR
VERSION:2.0
PRODID:-//Talks.cam//talks.cam.ac.uk//
X-WR-CALNAME:Talks.cam
BEGIN:VEVENT
SUMMARY:External Seminar - Jose Dinneny TBC -  Professor Jose Dinneny - St
 anford University
DTSTART:20260616T130000Z
DTEND:20260616T140000Z
UID:TALK246793@talks.cam.ac.uk
CONTACT:Kate Wetherell
DESCRIPTION:<p><br></p>
LOCATION:Sainsbury Laboratory Auditorium and online (contact events@slcu.c
 am.ac.uk for Zoom link)
END:VEVENT
END:VCALENDAR
