BEGIN:VCALENDAR
VERSION:2.0
PRODID:-//Talks.cam//talks.cam.ac.uk//
X-WR-CALNAME:Talks.cam
BEGIN:VEVENT
SUMMARY:30 Years of Ukrainian Sociological Data: Trust\, Identity\, and Re
 silience - Tymofii Brik (Kyiv School of Economics)
DTSTART:20260428T133000Z
DTEND:20260421T143000Z
UID:TALK246788@talks.cam.ac.uk
CONTACT:Yara Kyrychenko
DESCRIPTION:<p><span style="color: rgb(0\, 0\, 0)\;">This lecture draws on
  three decades of sociological data to examine how Ukrainian society has e
 volved in terms of trust\, values\, identities\, and political attitudes. 
 Using data from the European Social Survey (ESS) and other sources\, the t
 alk presents Ukraine as a complex and transforming society navigating demo
 cratization\, state-building\, and European integration. Particular attent
 ion will be given to how long-term social trends help explain Ukraine’s 
 resilience in the face of Russia’s full-scale invasion.</span></p>
LOCATION:Ground Floor Lecture Theatre\, Department of Psychology\, Downing
  Site\, Cambridge
END:VEVENT
END:VCALENDAR
