BEGIN:VCALENDAR
VERSION:2.0
PRODID:-//Talks.cam//talks.cam.ac.uk//
X-WR-CALNAME:Talks.cam
BEGIN:VEVENT
SUMMARY:MEEETING - 
DTSTART:20260424T080000Z
DTEND:20260424T160000Z
UID:TALK246782@talks.cam.ac.uk
CONTACT:Robert Barczyk
DESCRIPTION:
END:VEVENT
END:VCALENDAR
