BEGIN:VCALENDAR
VERSION:2.0
PRODID:-//Talks.cam//talks.cam.ac.uk//
X-WR-CALNAME:Talks.cam
BEGIN:VEVENT
SUMMARY:Title to be confirmed - Cameron Freer (MIT)
DTSTART:20260611T160000Z
DTEND:20260611T170000Z
UID:TALK246775@talks.cam.ac.uk
CONTACT:Anand Tadipatri
DESCRIPTION:<p><span style="background-color: rgb(255\, 255\, 255)\; color
 : rgb(0\, 0\, 0)\;">=== Online talk ===</span></p><p><span style="backgrou
 nd-color: rgb(255\, 255\, 255)\; color: rgb(0\, 0\, 0)\;">Join Zoom Meetin
 g </span><a href="https://cam-ac-uk.zoom.us/j/89856091954?pwd=Bba77QB2KuTi
 deTlH6PjAmbXLO8HbY.1" rel="noopener noreferrer" target="_blank" style="bac
 kground-color: rgb(255\, 255\, 255)\; color: rgb(0\, 51\, 153)\;">https://
 cam-ac-uk.zoom.us/j/89856091954?pwd=Bba77QB2KuTideTlH6PjAmbXLO8HbY.1</a></
 p><p><span style="background-color: rgb(255\, 255\, 255)\; color: rgb(0\, 
 0\, 0)\;">Meeting ID: 898 5609 1954 Passcode: ITPtalk</span></p><p><br></p
 >
LOCATION:Online\; live-streamed at MR14 Centre for Mathematical Sciences
END:VEVENT
END:VCALENDAR
