BEGIN:VCALENDAR
VERSION:2.0
PRODID:-//Talks.cam//talks.cam.ac.uk//
X-WR-CALNAME:Talks.cam
BEGIN:VEVENT
SUMMARY:Test - Bob Tets (INI)
DTSTART:20260421T080000Z
DTEND:20260421T090000Z
UID:TALK246767@talks.cam.ac.uk
CONTACT:Robert Barczyk
DESCRIPTION:INI
END:VEVENT
END:VCALENDAR
