BEGIN:VCALENDAR
VERSION:2.0
PRODID:-//Talks.cam//talks.cam.ac.uk//
X-WR-CALNAME:Talks.cam
BEGIN:VEVENT
SUMMARY:Condensed Matter Theory Beyond the Basics - David Khmelnitskii
DTSTART:20260514T090000Z
DTEND:20260514T100000Z
UID:TALK246761@talks.cam.ac.uk
CONTACT:Nigel Cooper
DESCRIPTION:<p>See the <a href="https://www.tcm.phy.cam.ac.uk/impact/teach
 ing.html" rel="noopener noreferrer" target="_blank">TCM graduate teaching 
 page</a> for further information.</p>
LOCATION:Ray Dolby Centre Seminar Room D (D2.002)
END:VEVENT
END:VCALENDAR
