BEGIN:VCALENDAR
VERSION:2.0
PRODID:-//Talks.cam//talks.cam.ac.uk//
X-WR-CALNAME:Talks.cam
BEGIN:VEVENT
SUMMARY:Title to be confirmed - Jhoannes Noller (University College London
 )
DTSTART:20260529T120000Z
DTEND:20260529T030000Z
UID:TALK246753@talks.cam.ac.uk
CONTACT:Lorenzo Gavassino
DESCRIPTION:<p><br></p>
LOCATION:Potter Room / Zoom
END:VEVENT
END:VCALENDAR
