BEGIN:VCALENDAR
VERSION:2.0
PRODID:-//Talks.cam//talks.cam.ac.uk//
X-WR-CALNAME:Talks.cam
BEGIN:VEVENT
SUMMARY:Title to be confirmed - Ali Mashayek
DTSTART:20260430T083900Z
DTEND:20260430T083900Z
UID:TALK246749@talks.cam.ac.uk
CONTACT:Catherine Pearson
DESCRIPTION:<p><br></p>
LOCATION:Open Plan Area\, Institute for Energy and Environmental Flows\, M
 adingley Rise CB3 0EZ
END:VEVENT
END:VCALENDAR
