BEGIN:VCALENDAR
VERSION:2.0
PRODID:-//Talks.cam//talks.cam.ac.uk//
X-WR-CALNAME:Talks.cam
BEGIN:VEVENT
SUMMARY:Transparency\, Diversity\, and Equality in Music Psychology: A Met
 a-Science Perspective - Tuomas Eerola (University of Durham)
DTSTART:20260522T160000Z
DTEND:20260522T170000Z
UID:TALK246734@talks.cam.ac.uk
CONTACT:Lindsay Friday
DESCRIPTION:<p><br></p>
LOCATION:Lecture Room 2\, Faculty of Music\, West Road
END:VEVENT
END:VCALENDAR
