BEGIN:VCALENDAR
VERSION:2.0
PRODID:-//Talks.cam//talks.cam.ac.uk//
X-WR-CALNAME:Talks.cam
BEGIN:VEVENT
SUMMARY:“Find him if you can!”: Havergal Brian’s The Tigers as ‘au
 tobiopera’ - Tim Watts (University of Cambridge)
DTSTART:20260513T160000Z
DTEND:20260513T170000Z
UID:TALK246733@talks.cam.ac.uk
CONTACT:Lindsay Friday
DESCRIPTION:<p><br></p>
LOCATION:Lecture Room 2\, Faculty of Music\, West Road
END:VEVENT
END:VCALENDAR
