BEGIN:VCALENDAR
VERSION:2.0
PRODID:-//Talks.cam//talks.cam.ac.uk//
X-WR-CALNAME:Talks.cam
BEGIN:VEVENT
SUMMARY:Panel 1: Conservation & Ecosystems - Dr Timo Kohler\, Charlie Gard
 ner\, Iain Webb\, Yair Perry
DTSTART:20260314T100000Z
DTEND:20260314T120000Z
UID:TALK245539@talks.cam.ac.uk
CONTACT:Kaden Pradhan
DESCRIPTION:What nature-based climate solutions are available for ecosyste
 ms? Climate change has caused staggering biodiversity loss and habitat deg
 radation. This panel will explore solutions to ecological climate damage w
 hich forefronts and recentres the victims of that damage\, seeking to leve
 rage natural means for natural ends. 
LOCATION:Sidgwick Hall\, Newnham College
END:VEVENT
END:VCALENDAR
