BEGIN:VCALENDAR
VERSION:2.0
PRODID:-//Talks.cam//talks.cam.ac.uk//
X-WR-CALNAME:Talks.cam
BEGIN:VEVENT
SUMMARY:A novel hereditary encephalopathy in four related Labrador Retriev
 ers associated with a missense variant in the ALDH5A1 gene’ - Georgina H
 arris and Ellen Schofield\, Department of Veterinary Medicine
DTSTART:20260424T074500Z
DTEND:20260424T090000Z
UID:TALK243778@talks.cam.ac.uk
CONTACT:Fiona Roby
DESCRIPTION:Georgina Harris (an associate teaching professor in veterinary
  neurology at the University of Cambridge)\nand\nEllen Schofield (a Bioinf
 ormatician based in the Mellersh canine genetics group) \n
LOCATION:LT2
END:VEVENT
END:VCALENDAR
