BEGIN:VCALENDAR
VERSION:2.0
PRODID:-//Talks.cam//talks.cam.ac.uk//
X-WR-CALNAME:Talks.cam
BEGIN:VEVENT
SUMMARY:How Data Scientists Can Improve Reproductive Health - Ali Abbara (
 Imperial College London)
DTSTART:20251204T093000Z
DTEND:20251204T101500Z
UID:TALK241018@talks.cam.ac.uk
DESCRIPTION:
LOCATION:Seminar Room 1\, Newton Institute
END:VEVENT
END:VCALENDAR
