BEGIN:VCALENDAR
VERSION:2.0
PRODID:-//Talks.cam//talks.cam.ac.uk//
X-WR-CALNAME:Talks.cam
BEGIN:VEVENT
SUMMARY:Exploring the parallels between 'Lebor Gabála Érenn' and Isidore
 's 'Historia gothorum' - Pau Blanco Rios (ASNC\, Cambridge)
DTSTART:20260206T170000Z
DTEND:20260206T180000Z
UID:TALK240604@talks.cam.ac.uk
CONTACT:Dr Patrick McAlary
DESCRIPTION:Abstract not available
LOCATION:English Faculty Building GR06/07
END:VEVENT
END:VCALENDAR
