BEGIN:VCALENDAR
VERSION:2.0
PRODID:-//Talks.cam//talks.cam.ac.uk//
X-WR-CALNAME:Talks.cam
BEGIN:VEVENT
SUMMARY:Anomalies of Defect Parameter Spaces and a Spin-Flux Duality - Bra
 ndon Rayhaun (Institute for Advanced Study\, School of Natural Sciences)
DTSTART:20251113T100000Z
DTEND:20251113T113000Z
UID:TALK240592@talks.cam.ac.uk
DESCRIPTION:I will explain how the irreversibility of the renormalization 
 group together with&nbsp\;anomalies\, including&nbsp\;anomalies&nbsp\;in t
 he&nbsp\;space&nbsp\;of coupling constants\, can be used to constrain the 
 IR phases of&nbsp\;defects&nbsp\;in familiar quantum field theories. As an
  example\, I will use these techniques to provide evidence for a conjectur
 al "spin-flux duality" which describes how certain line operators are mapp
 ed across particle/vortex duality in 2+1d.
LOCATION:Seminar Room 2\, Newton Institute
END:VEVENT
END:VCALENDAR
