BEGIN:VCALENDAR
VERSION:2.0
PRODID:-//Talks.cam//talks.cam.ac.uk//
X-WR-CALNAME:Talks.cam
BEGIN:VEVENT
SUMMARY:Introduction ot Hilbert-Schmidt stability - Itamar Vigdorovich (Un
 iversity of California\, San Diego)
DTSTART:20251124T114500Z
DTEND:20251124T124500Z
UID:TALK240403@talks.cam.ac.uk
DESCRIPTION:I will introduce the notion of Hilbert&ndash\;Schmidt stabilit
 y and highlight its key differences from the operator-norm variant of stab
 ility. I will survey several known results and techniques in this area\, a
 s well as discuss applications of Hilbert&ndash\;Schmidt stability to othe
 r topics in group theory and operator algebras.
LOCATION:Seminar Room 1\, Newton Institute
END:VEVENT
END:VCALENDAR
