BEGIN:VCALENDAR
VERSION:2.0
PRODID:-//Talks.cam//talks.cam.ac.uk//
X-WR-CALNAME:Talks.cam
BEGIN:VEVENT
SUMMARY: Public Readiness for Nuclear-Powered Civilian Ships: What Does th
 e Latest Data Say? - Roope Marttila (University of Helsinki)
DTSTART:20251111T123000Z
DTEND:20251111T133000Z
UID:TALK239362@talks.cam.ac.uk
CONTACT:Mariana Soberon
DESCRIPTION:Abstract not available
LOCATION:Cambridge Judge Business School\, Simon Sainsbury Centre\, Semina
 r Room 4
END:VEVENT
END:VCALENDAR
