BEGIN:VCALENDAR
VERSION:2.0
PRODID:-//Talks.cam//talks.cam.ac.uk//
X-WR-CALNAME:Talks.cam
BEGIN:VEVENT
SUMMARY:AI and neuroimaging in dementia - Timothy Rittman\, Department of 
 Clinical Neurosciences\, University of Cambridge
DTSTART:20250812T123000Z
DTEND:20250812T130000Z
UID:TALK239182@talks.cam.ac.uk
CONTACT:J L Chen
DESCRIPTION:Abstract not available
LOCATION: Berridge Room\, Level 5\, Department of Radiology
END:VEVENT
END:VCALENDAR
