BEGIN:VCALENDAR
VERSION:2.0
PRODID:-//Talks.cam//talks.cam.ac.uk//
X-WR-CALNAME:Talks.cam
BEGIN:VEVENT
SUMMARY:Share your front page - Rachel Thomas (University of Cambridge)\, 
 Marianne Freiberger (University of Cambridge)
DTSTART:20260105T161500Z
DTEND:20260105T165000Z
UID:TALK238600@talks.cam.ac.uk
DESCRIPTION:Share your front page\nDiscussion of frontpages and feedback\n
 Marianne Freiberger (Plus Magazine)\nRachel Thomas (Plus Magazine)
LOCATION:Seminar Room 1\, Newton Institute
END:VEVENT
END:VCALENDAR
