BEGIN:VCALENDAR
VERSION:2.0
PRODID:-//Talks.cam//talks.cam.ac.uk//
X-WR-CALNAME:Talks.cam
BEGIN:VEVENT
SUMMARY:Test and item evaluation - Nat Johnson (Test Evaluation Manager\, 
 OCR) and Sara Scorey (Research and Validation Officer\, Cambridge Assessme
 nt)
DTSTART:20100401T093000Z
DTEND:20100401T113000Z
UID:TALK23661@talks.cam.ac.uk
CONTACT:Liz Ford
DESCRIPTION:An introduction to test and item evaluation covering the princ
 iples behind statistics used across Cambridge Assessment’s qualification
 s. The session aims to build confidence in interpreting statistical analys
 is of assessments. Concepts introduced will include omit rates\, facility 
 values\, discrimination indices\, bias or Differential Item Functioning\, 
 and analysis of multiple choice items.\n\n
LOCATION:9 Hills Road\, Cambridge Assessment
END:VEVENT
END:VCALENDAR
