BEGIN:VCALENDAR
VERSION:2.0
PRODID:-//Talks.cam//talks.cam.ac.uk//
X-WR-CALNAME:Talks.cam
BEGIN:VEVENT
SUMMARY:Novel approaches to simulating the observable Universe - Chris Lov
 ell (KICC)
DTSTART:20251017T103000Z
DTEND:20251017T113000Z
UID:TALK236032@talks.cam.ac.uk
CONTACT:Sandro Tacchella
DESCRIPTION:Abstract not available
LOCATION:Ryle Seminar Room\, KICC + online
END:VEVENT
END:VCALENDAR
