BEGIN:VCALENDAR
VERSION:2.0
PRODID:-//Talks.cam//talks.cam.ac.uk//
X-WR-CALNAME:Talks.cam
BEGIN:VEVENT
SUMMARY:Symmetric orbifold CFTs and their topological defect lines - Micha
 el Gutperle (University of California\, Los Angeles)
DTSTART:20250915T090000Z
DTEND:20250915T103000Z
UID:TALK235633@talks.cam.ac.uk
DESCRIPTION:In this talk I will give a brief review of symmetric orbifolds
  in two dimensional conformal field theories. I will describe the topologi
 cal defect lines associated with (non)invertible symmetries and some of th
 eir properties in these theories. I will discuss which of these TDL surviv
 e deformation of the symmetric orbifold by marginal deformations in the tw
 isted sector. Some applications to holography will be discussed.
LOCATION:Seminar Room 2\, Newton Institute
END:VEVENT
END:VCALENDAR
