BEGIN:VCALENDAR
VERSION:2.0
PRODID:-//Talks.cam//talks.cam.ac.uk//
X-WR-CALNAME:Talks.cam
BEGIN:VEVENT
SUMMARY:A Mathematical Modelling Framework for a Virtual Solid Tumour: Fou
 ndation for an Oncological Digital Twin - Mark Chaplain (University of St 
 Andrews)
DTSTART:20250919T135000Z
DTEND:20250919T141000Z
UID:TALK235456@talks.cam.ac.uk
DESCRIPTION:In this talk we will present a mathematical modelling framewor
 k for a virtual solid tumour. The framework will be built around a multisc
 ale force-based individual-based model of an avascular multicellular spher
 oid. We will discuss how this basic framework may be extended to include t
 wo critical (macroscale) hallmarks of cancer: tumour-induced angiogenesis 
 and cancer invasion and metastasis. We will then sketch a path to create a
 n oncological digital twin.
LOCATION:Seminar Room 1\, Newton Institute
END:VEVENT
END:VCALENDAR
