BEGIN:VCALENDAR
VERSION:2.0
PRODID:-//Talks.cam//talks.cam.ac.uk//
X-WR-CALNAME:Talks.cam
BEGIN:VEVENT
SUMMARY:Introduction to Day 2 - Ben Sparks (University of Bath)\, Katie St
 eckles
DTSTART:20260113T155500Z
DTEND:20260113T160000Z
UID:TALK233866@talks.cam.ac.uk
DESCRIPTION:
LOCATION:External
END:VEVENT
END:VCALENDAR
